BEGIN:VCALENDAR
VERSION:2.0
PRODID:-//六郷まちづくり協議会 - ECPv6.0.12//NONSGML v1.0//EN
CALSCALE:GREGORIAN
METHOD:PUBLISH
X-WR-CALNAME:六郷まちづくり協議会
X-ORIGINAL-URL:https://yuzuro.org
X-WR-CALDESC:六郷まちづくり協議会 のイベント
REFRESH-INTERVAL;VALUE=DURATION:PT1H
X-Robots-Tag:noindex
X-PUBLISHED-TTL:PT1H
BEGIN:VTIMEZONE
TZID:Asia/Tokyo
BEGIN:STANDARD
TZOFFSETFROM:+0900
TZOFFSETTO:+0900
TZNAME:JST
DTSTART:20200101T000000
END:STANDARD
END:VTIMEZONE
BEGIN:VEVENT
DTSTART;TZID=Asia/Tokyo:20200307T093000
DTEND;TZID=Asia/Tokyo:20200307T120000
DTSTAMP:20260421T214336
CREATED:20200211T140118Z
LAST-MODIFIED:20200228T113609Z
UID:14014-1583573400-1583582400@yuzuro.org
SUMMARY:1%地域づくり活動交付金　活動報告会は中止されました
DESCRIPTION:令和元年度の活動報告会が行われます。　今年は、六郷まちづくり協議会や、パソコン寺子屋も報告しますので、ぜひお出かけください。
URL:https://yuzuro.org/event/1%e5%9c%b0%e5%9f%9f%e3%81%a5%e3%81%8f%e3%82%8a%e6%b4%bb%e5%8b%95%e4%ba%a4%e4%bb%98%e9%87%91%e3%80%80%e6%b4%bb%e5%8b%95%e5%a0%b1%e5%91%8a%e4%bc%9a/
LOCATION:中央公民館　多目的ホール\, 菊川市下平川6225
GEO:34.7018865;138.0901992
X-APPLE-STRUCTURED-LOCATION;VALUE=URI;X-ADDRESS=中央公民館　多目的ホール 菊川市下平川6225;X-APPLE-RADIUS=500;X-TITLE=菊川市下平川6225:geo:138.0901992,34.7018865
END:VEVENT
END:VCALENDAR